BEGIN:VCALENDAR
VERSION:2.0
PRODID:-//ChamberMaster//Event Calendar 2.0//EN
METHOD:PUBLISH
X-PUBLISHED-TTL:P3D
REFRESH-INTERVAL:P3D
CALSCALE:GREGORIAN
BEGIN:VEVENT
DTSTART:20170626T160000Z
DTEND:20170626T233000Z
X-MICROSOFT-CDO-ALLDAYEVENT:FALSE
SUMMARY:Jurisdiction and Classification/Export Licensing Workshop
DESCRIPTION:Join us in a hands-on workshop with one session on Jurisdiction and Classification and another in Export Licensing. Whether you are struggling with jurisdiction analyses or would like to learn how to do it\, the jurisdiction and classification session is for you. In the afternoon\, learn about drafting export licenses and learning when to use exceptions/exemptions and how to apply them. In this session\, we will walk through the license application process and draft sample license applications\, including letters of explanation/transmittal. Additionally\, we will discuss common export exceptions and requirements for use. Whether you are EAR or ITAR focused\, this workshop is a great benefit to your export compliance knowledge and program. Sample Topics: Jurisdiction/Classification - Order or review - Specially designed and releases - Interpreting classifications - Technical data - Services - Best practices Export Licensing - EAR licenses - ITAR licenses and agreements - Provisos and conditions - Letters of explanation/transmittal - Supporting documentation - ITAR exemptions/EAR exceptions - Best practices Register at https://goo.gl/8vV5YZ
X-ALT-DESC;FMTTYPE=text/html:Join us in a hands-on workshop with one session on Jurisdiction and Classification and another in Export Licensing. Whether you are struggling with jurisdiction analyses or would like to learn how to do it\, the jurisdiction and classification session is for you. In the afternoon\, learn about drafting export licenses and learning when to use exceptions/exemptions and how to apply them. In this session\, we will walk through the license application process and draft sample license applications\, including letters of explanation/transmittal. Additionally\, we will discuss common export exceptions and requirements for use. Whether you are EAR or ITAR focused\, this workshop is a great benefit to your export compliance knowledge and program. Sample Topics: Jurisdiction/Classification - Order or review - Specially designed and releases - Interpreting classifications - Technical data - Services - Best practices Export Licensing - EAR licenses - ITAR licenses and agreements - Provisos and conditions - Letters of explanation/transmittal - Supporting documentation - ITAR exemptions/EAR exceptions - Best practices Register at https://goo.gl/8vV5YZ
LOCATION:Rancho Santiago Community College District 2323 N. Broadway #107\, 1st Floor Santa Ana\, CA 92706
UID:e.2848.746
SEQUENCE:3
DTSTAMP:20260424T043446Z
URL:http://santaana.chambermaster.com/events/details/jurisdiction-and-classification-export-licensing-workshop-746
END:VEVENT

END:VCALENDAR
